BEGIN:VCALENDAR
PRODID:-//Microsoft Corporation//OutlookMIMEDIR//EN
VERSION:2.0
X-WR-TIMEZONE:Europe/London
CALSCALE:GREGORIAN
METHOD:PUBLISH
CLASS:PUBLIC
BEGIN:VTIMEZONE
TZID:Europe/London
LAST-MODIFIED:20260306T231828Z
TZURL:https://www.tzurl.org/zoneinfo-outlook/Europe/London
X-LIC-LOCATION:Europe/London
BEGIN:DAYLIGHT
TZNAME:BST
TZOFFSETFROM:+0000
TZOFFSETTO:+0100
DTSTART:19700329T010000
RRULE:FREQ=YEARLY;BYMONTH=3;BYDAY=-1SU
END:DAYLIGHT
BEGIN:STANDARD
TZNAME:GMT
TZOFFSETFROM:+0100
TZOFFSETTO:+0000
DTSTART:19701025T020000
RRULE:FREQ=YEARLY;BYMONTH=10;BYDAY=-1SU
END:STANDARD
END:VTIMEZONE
BEGIN:VEVENT
DTSTART;TZID=Europe/London:20210701T130000
DTEND;TZID=Europe/London:20210701T150000
DTSTAMP:20260423T093705Z
UID:{8FE3E520-1072-41B8-83B07D8BF787346F}
LOCATION:Zoom
SUMMARY:Meeting 12: Network Relaunch
DESCRIPTION:\n
 A meeting to relaunch the Network after a period of inactivity. Open to all Icon members and non-members.\n
 \n
 Presentations exploring technology for documenting cultural heritage were followed by an informal discussion of Network aims and objectives.\n
 \n
 <a href="https://www.icon.org.uk/events/documentation-network-relaunch-meeting.html">Event listing </a>\n
  <a href="https://www.youtube.com/watch?v=A5KMRaPibc0">Recording </a>
PRIORITY:1
END:VEVENT
END:VCALENDAR