BEGIN:VCALENDAR
PRODID:-//Pixl8//Eventfolio//EN
VERSION:2.0
X-WR-TIMEZONE:Europe/London
CALSCALE:GREGORIAN
METHOD:PUBLISH
CLASS:PUBLIC
BEGIN:VTIMEZONE
TZID:Europe/London
LAST-MODIFIED:20260306T231828Z
TZURL:https://www.tzurl.org/zoneinfo-outlook/Europe/London
X-LIC-LOCATION:Europe/London
BEGIN:DAYLIGHT
TZNAME:BST
TZOFFSETFROM:+0000
TZOFFSETTO:+0100
DTSTART:19700329T010000
RRULE:FREQ=YEARLY;BYMONTH=3;BYDAY=-1SU
END:DAYLIGHT
BEGIN:STANDARD
TZNAME:GMT
TZOFFSETFROM:+0100
TZOFFSETTO:+0000
DTSTART:19701025T020000
RRULE:FREQ=YEARLY;BYMONTH=10;BYDAY=-1SU
END:STANDARD
END:VTIMEZONE
BEGIN:VEVENT
DTSTART;TZID=Europe/London:20231130T183000
DTEND;TZID=Europe/London:20231130T203000
DTSTAMP:20260422T111347Z
UID:{BE5E2116-4E0E-4FD6-B801F9C1950A599C}
LOCATION:
SUMMARY:Scotland Group: 26th Annual Plenderleith Memorial Lecture
DESCRIPTION:Conservation and the Kelvin Centre: Supporting Growth in Scotland\n
 \n
 Event details: https://www.icon.org.uk/events/scotland-group-26th-annual-plenderleith-memorial-lecture-hybrid.html
PRIORITY:1
END:VEVENT
END:VCALENDAR