BEGIN:VCALENDAR
PRODID:-//Pixl8//Eventfolio//EN
VERSION:2.0
X-WR-TIMEZONE:Europe/London
CALSCALE:GREGORIAN
METHOD:PUBLISH
CLASS:PUBLIC
BEGIN:VTIMEZONE
TZID:Europe/London
LAST-MODIFIED:20260306T231828Z
TZURL:https://www.tzurl.org/zoneinfo-outlook/Europe/London
X-LIC-LOCATION:Europe/London
BEGIN:DAYLIGHT
TZNAME:BST
TZOFFSETFROM:+0000
TZOFFSETTO:+0100
DTSTART:19700329T010000
RRULE:FREQ=YEARLY;BYMONTH=3;BYDAY=-1SU
END:DAYLIGHT
BEGIN:STANDARD
TZNAME:GMT
TZOFFSETFROM:+0100
TZOFFSETTO:+0000
DTSTART:19701025T020000
RRULE:FREQ=YEARLY;BYMONTH=10;BYDAY=-1SU
END:STANDARD
END:VTIMEZONE
BEGIN:VEVENT
DTSTART;TZID=Europe/London:20231130T173000
DTEND;TZID=Europe/London:20231130T181500
DTSTAMP:20260420T120607Z
UID:{A5A0C559-35CC-4DC2-9945565C5A7448BD}
LOCATION:Engine Shed\, Forthside Way\, Stirling FK8 1QZ
SUMMARY:Scotland Group: 2023 AGM
DESCRIPTION:You are cordially invited to the 2023 AGM of the Icon Scotland Group!\n
 \n
 Event details: https://www.icon.org.uk/events/scotland-group-2023-agm.html
PRIORITY:1
END:VEVENT
END:VCALENDAR