BEGIN:VCALENDAR
PRODID:-//Pixl8//Eventfolio//EN
VERSION:2.0
X-WR-TIMEZONE:Europe/London
CALSCALE:GREGORIAN
METHOD:PUBLISH
CLASS:PUBLIC
BEGIN:VTIMEZONE
TZID:Europe/London
LAST-MODIFIED:20260306T231828Z
TZURL:https://www.tzurl.org/zoneinfo-outlook/Europe/London
X-LIC-LOCATION:Europe/London
BEGIN:DAYLIGHT
TZNAME:BST
TZOFFSETFROM:+0000
TZOFFSETTO:+0100
DTSTART:19700329T010000
RRULE:FREQ=YEARLY;BYMONTH=3;BYDAY=-1SU
END:DAYLIGHT
BEGIN:STANDARD
TZNAME:GMT
TZOFFSETFROM:+0100
TZOFFSETTO:+0000
DTSTART:19701025T020000
RRULE:FREQ=YEARLY;BYMONTH=10;BYDAY=-1SU
END:STANDARD
END:VTIMEZONE
BEGIN:VEVENT
DTSTART;TZID=Europe/London:20260706T133000
DTEND;TZID=Europe/London:20260706T160000
DTSTAMP:20260423T185959Z
UID:{3C8370E7-B761-4228-9CFF0CF9B3AB0218}
LOCATION:
SUMMARY:Icon Mentor Training July 2026
DESCRIPTION:An online session for Accredited Members considering mentoring, covering the process, responsibilities, and support to help candidates succeed in their Accreditation\n
 \n
 Event details: https://www.icon.org.uk/events/icon-mentor-training-july-2026.html
PRIORITY:1
END:VEVENT
END:VCALENDAR