BEGIN:VCALENDAR
PRODID:-//Pixl8//Eventfolio//EN
VERSION:2.0
X-WR-TIMEZONE:Europe/London
CALSCALE:GREGORIAN
METHOD:PUBLISH
CLASS:PUBLIC
BEGIN:VTIMEZONE
TZID:Europe/London
LAST-MODIFIED:20260306T231828Z
TZURL:https://www.tzurl.org/zoneinfo-outlook/Europe/London
X-LIC-LOCATION:Europe/London
BEGIN:DAYLIGHT
TZNAME:BST
TZOFFSETFROM:+0000
TZOFFSETTO:+0100
DTSTART:19700329T010000
RRULE:FREQ=YEARLY;BYMONTH=3;BYDAY=-1SU
END:DAYLIGHT
BEGIN:STANDARD
TZNAME:GMT
TZOFFSETFROM:+0100
TZOFFSETTO:+0000
DTSTART:19701025T020000
RRULE:FREQ=YEARLY;BYMONTH=10;BYDAY=-1SU
END:STANDARD
END:VTIMEZONE
BEGIN:VEVENT
DTSTART;TZID=Europe/London:20260410T093000
DTEND;TZID=Europe/London:20260410T170000
DTSTAMP:20260425T011020Z
UID:{89513AC8-651B-4F64-8C6FB84A269F22E0}
LOCATION:McCrum Lecture Theatre\, Corpus Christi College\, Cambridge\, England
SUMMARY:Ex Libris - Libraries and their Historic Interiors and Collections
DESCRIPTION:Discover the architecture, conservation and care of library interiors and their unique collections\n
 \n
 Event details: https://www.icon.org.uk/events/ex-libris-libraries-and-their-historic-interiors-and-collections.html
PRIORITY:1
END:VEVENT
END:VCALENDAR