BEGIN:VCALENDAR
PRODID:-//Pixl8//Eventfolio//EN
VERSION:2.0
X-WR-TIMEZONE:Europe/London
CALSCALE:GREGORIAN
METHOD:PUBLISH
CLASS:PUBLIC
BEGIN:VTIMEZONE
TZID:Europe/London
LAST-MODIFIED:20260306T231828Z
TZURL:https://www.tzurl.org/zoneinfo-outlook/Europe/London
X-LIC-LOCATION:Europe/London
BEGIN:DAYLIGHT
TZNAME:BST
TZOFFSETFROM:+0000
TZOFFSETTO:+0100
DTSTART:19700329T010000
RRULE:FREQ=YEARLY;BYMONTH=3;BYDAY=-1SU
END:DAYLIGHT
BEGIN:STANDARD
TZNAME:GMT
TZOFFSETFROM:+0100
TZOFFSETTO:+0000
DTSTART:19701025T020000
RRULE:FREQ=YEARLY;BYMONTH=10;BYDAY=-1SU
END:STANDARD
END:VTIMEZONE
BEGIN:VEVENT
DTSTART;TZID=Europe/London:20220317T120000
DTEND;TZID=Europe/London:20220317T133000
DTSTAMP:20260420T213953Z
UID:{0103F238-9E02-40E7-8283DF218CB33B26}
LOCATION:
SUMMARY:Archaeology Group: Conservation of the Galloway Hoard
DESCRIPTION:The richest collection of rare and unique Viking-age objects ever found in Britain or Ireland\n
 \n
 Event details: https://www.icon.org.uk/events/archaeology-group-conservation-of-the-galloway-hoard.html
PRIORITY:1
END:VEVENT
END:VCALENDAR