BEGIN:VCALENDAR
PRODID:-//Pixl8//Eventfolio//EN
VERSION:2.0
X-WR-TIMEZONE:Europe/London
CALSCALE:GREGORIAN
METHOD:PUBLISH
CLASS:PUBLIC
BEGIN:VTIMEZONE
TZID:Europe/London
LAST-MODIFIED:20260306T231828Z
TZURL:https://www.tzurl.org/zoneinfo-outlook/Europe/London
X-LIC-LOCATION:Europe/London
BEGIN:DAYLIGHT
TZNAME:BST
TZOFFSETFROM:+0000
TZOFFSETTO:+0100
DTSTART:19700329T010000
RRULE:FREQ=YEARLY;BYMONTH=3;BYDAY=-1SU
END:DAYLIGHT
BEGIN:STANDARD
TZNAME:GMT
TZOFFSETFROM:+0100
TZOFFSETTO:+0000
DTSTART:19701025T020000
RRULE:FREQ=YEARLY;BYMONTH=10;BYDAY=-1SU
END:STANDARD
END:VTIMEZONE
BEGIN:VEVENT
DTSTART;TZID=Europe/London:20210806T150000
DTEND;TZID=Europe/London:20210806T173000
DTSTAMP:20260424T211658Z
UID:{5B90C4B2-8078-4163-A4AB7E23638D2F44}
LOCATION:
SUMMARY:Archaeology Group: A Project I am Proud of & 2021 AGM
DESCRIPTION:Join us for our AGM followed by five presentations on recent archaeological conservation projects.\n
 \n
 Event details: https://www.icon.org.uk/events/archaeology-group-a-project-i-am-proud-of.html
PRIORITY:1
END:VEVENT
END:VCALENDAR